BEGIN:VCALENDAR
VERSION:2.0
CALSCALE:GREGORIAN
PRODID:adamgibbons/ics
METHOD:PUBLISH
X-PUBLISHED-TTL:PT1H
BEGIN:VEVENT
UID:2028@camifa.net
SUMMARY:Corteo Antifascista
DTSTAMP:20260421T034307Z
DTSTART:20260425T080000Z
DTEND:20260425T150000Z
URL:https://camifa.net/event/corteo-antifascista
LOCATION:Piazza Kennedy - Piazza Kennedy\, 87100 Cosenza\, CS
STATUS:CONFIRMED
CATEGORIES:25aprile26,corteo,tutta cosenza
BEGIN:VALARM
ACTION:DISPLAY
DESCRIPTION:Corteo Antifascista
TRIGGER:-PT1H
END:VALARM
END:VEVENT
END:VCALENDAR
