BEGIN:VCALENDAR
VERSION:2.0
CALSCALE:GREGORIAN
PRODID:adamgibbons/ics
METHOD:PUBLISH
X-PUBLISHED-TTL:PT1H
BEGIN:VEVENT
UID:2025@camifa.net
SUMMARY:Auditorium Popolare - Stagione musicale
DTSTAMP:20260421T060243Z
DTSTART:20260425T200000Z
DTEND:20260426T000000Z
URL:https://camifa.net/event/auditorium-popolare-stagione-musicale-7
LOCATION:varie location (Cosenza) - Cosenza (CS)
STATUS:CONFIRMED
CATEGORIES:calendario,concerto,dj set,ingresso a sottoscrizione,ingresso gr
	atuito
BEGIN:VALARM
ACTION:DISPLAY
DESCRIPTION:Auditorium Popolare - Stagione musicale
TRIGGER:-PT1H
END:VALARM
END:VEVENT
END:VCALENDAR
