BEGIN:VCALENDAR
VERSION:2.0
CALSCALE:GREGORIAN
PRODID:adamgibbons/ics
METHOD:PUBLISH
X-PUBLISHED-TTL:PT1H
BEGIN:VEVENT
UID:2030@camifa.net
SUMMARY:25 Aprile al Parco Gaslini
DTSTAMP:20260421T174833Z
DTSTART:20260425T090000Z
DTEND:20260425T170000Z
URL:https://camifa.net/event/25-aprile-al-parco-gaslini
LOCATION:Parco Gaslini (CZ) - Parco Gaslini\, Catanzaro Lido\, Catanzaro\, 
	CZ
STATUS:CONFIRMED
CATEGORIES:25aprile26,comitato oltre i confini,marjan jamali,maysoon majidi
BEGIN:VALARM
ACTION:DISPLAY
DESCRIPTION:25 Aprile al Parco Gaslini
TRIGGER:-PT1H
END:VALARM
END:VEVENT
END:VCALENDAR
